BEGIN:VCALENDAR
VERSION:2.0
PRODID:-//wp-events-plugin.com//7.2.3.1//EN
TZID:Europe/Berlin
X-WR-TIMEZONE:Europe/Berlin
BEGIN:VEVENT
UID:35@dorfgemeinschaft-espa.de
DTSTART;TZID=Europe/Berlin:20261206T170000
DTEND;TZID=Europe/Berlin:20261206T190000
DTSTAMP:20251210T090716Z
URL:https://www.dorfgemeinschaft-espa.de/events/eine-kleine-weihnachtliche
 -geschichte-teil-2-2/
SUMMARY:Eine kleine weihnachtliche Geschichte\, Teil 2
DESCRIPTION:Und: Der Nikolaus kommt ins Bürgerhaus Espa!
CATEGORIES:Familien &amp; Kinder,Veranstalter: Dorfgemeinschaft Espa
LOCATION:Bürgerhaus Espa\, Weidenweg 5a\, Langgöns-Espa\, 35428\, Deutsch
 land
X-APPLE-STRUCTURED-LOCATION;VALUE=URI;X-ADDRESS=Weidenweg 5a\, Langgöns-Es
 pa\, 35428\, Deutschland;X-APPLE-RADIUS=100;X-TITLE=Bürgerhaus Espa:geo:0
 ,0
END:VEVENT
BEGIN:VTIMEZONE
TZID:Europe/Berlin
X-LIC-LOCATION:Europe/Berlin
BEGIN:STANDARD
DTSTART:20261025T020000
TZOFFSETFROM:+0200
TZOFFSETTO:+0100
TZNAME:CET
END:STANDARD
END:VTIMEZONE
END:VCALENDAR