BEGIN:VCALENDAR
VERSION:2.0
PRODID:-//wp-events-plugin.com//7.2.3.1//EN
TZID:Europe/Berlin
X-WR-TIMEZONE:Europe/Berlin
BEGIN:VEVENT
UID:36@dorfgemeinschaft-espa.de
DTSTART;TZID=Europe/Berlin:20261213T170000
DTEND;TZID=Europe/Berlin:20261213T190000
DTSTAMP:20251210T090755Z
URL:https://www.dorfgemeinschaft-espa.de/events/eine-kleine-weihnachtliche
 -geschichte-teil-3-2/
SUMMARY:Eine kleine weihnachtliche Geschichte\, Teil 3
DESCRIPTION:Bei Familie Valentin\, Am Hang 3: Es wird schon festlich mit Gl
 ühwein und Kinderpunsch!
CATEGORIES:Familien &amp; Kinder,Veranstalter: Dorfgemeinschaft Espa
LOCATION:Familie Valentin\, Am Hang 3\, Langgöns-Espa\, Deutschland
X-APPLE-STRUCTURED-LOCATION;VALUE=URI;X-ADDRESS=Am Hang 3\, Langgöns-Espa\
 , Deutschland;X-APPLE-RADIUS=100;X-TITLE=Familie Valentin:geo:0,0
END:VEVENT
BEGIN:VTIMEZONE
TZID:Europe/Berlin
X-LIC-LOCATION:Europe/Berlin
BEGIN:STANDARD
DTSTART:20261025T020000
TZOFFSETFROM:+0200
TZOFFSETTO:+0100
TZNAME:CET
END:STANDARD
END:VTIMEZONE
END:VCALENDAR