BEGIN:VCALENDAR
VERSION:2.0
PRODID:-//wp-events-plugin.com//7.2.3.1//EN
TZID:Europe/Berlin
X-WR-TIMEZONE:Europe/Berlin
BEGIN:VEVENT
UID:38@dorfgemeinschaft-espa.de
DTSTART;TZID=Europe/Berlin;VALUE=DATE:20270109
DTEND;TZID=Europe/Berlin;VALUE=DATE:20270110
DTSTAMP:20251210T090923Z
URL:https://www.dorfgemeinschaft-espa.de/events/einsammeln-der-weihnachtsb
 aeume-2/
SUMMARY:Einsammeln der Weihnachtsbäume
DESCRIPTION:Die Feuerwehr sammelt die am Bürgersteig abgelegten Weihnachts
 bäume ein.\n\nSpenden werden für die Jugendfeuerwehr verwendet.
CATEGORIES:Besondere Projekte,Veranstalter: Freiwillige Feuerwehr Espa
END:VEVENT
BEGIN:VTIMEZONE
TZID:Europe/Berlin
X-LIC-LOCATION:Europe/Berlin
BEGIN:STANDARD
DTSTART:20261025T020000
TZOFFSETFROM:+0200
TZOFFSETTO:+0100
TZNAME:CET
END:STANDARD
END:VTIMEZONE
END:VCALENDAR