BEGIN:VCALENDAR
VERSION:2.0
PRODID:-//wp-events-plugin.com//7.2.3.1//EN
TZID:Europe/Berlin
X-WR-TIMEZONE:Europe/Berlin
BEGIN:VEVENT
UID:24@dorfgemeinschaft-espa.de
DTSTART;TZID=Europe/Berlin:20260525T140000
DTEND;TZID=Europe/Berlin:20260525T170000
DTSTAMP:20260220T072231Z
URL:https://www.dorfgemeinschaft-espa.de/events/espaer-boule-turnier-2/
SUMMARY:Espaer Boule-Turnier
DESCRIPTION:Unter der Leitung von Helmut Rühl veranstalten wir wieder ein 
 Boule-Turnier mit den Boule-Freunden Espa.\n\nDie Dorfgemeinschaft Espa so
 rgt für Grillwürstchen und Getränke.
CATEGORIES:Gemeinsam aktiv,Veranstalter: Dorfgemeinschaft Espa
LOCATION:Boule-Bahn\, Solmser Straße / Ecke Silberweg\, Langgöns-Espa\, 3
 5428\, Deutschland
X-APPLE-STRUCTURED-LOCATION;VALUE=URI;X-ADDRESS=Solmser Straße / Ecke Silb
 erweg\, Langgöns-Espa\, 35428\, Deutschland;X-APPLE-RADIUS=100;X-TITLE=Bo
 ule-Bahn:geo:0,0
END:VEVENT
BEGIN:VTIMEZONE
TZID:Europe/Berlin
X-LIC-LOCATION:Europe/Berlin
BEGIN:DAYLIGHT
DTSTART:20260329T030000
TZOFFSETFROM:+0100
TZOFFSETTO:+0200
TZNAME:CEST
END:DAYLIGHT
END:VTIMEZONE
END:VCALENDAR