BEGIN:VCALENDAR
VERSION:2.0
PRODID:-//wp-events-plugin.com//7.2.3.1//EN
TZID:Europe/Berlin
X-WR-TIMEZONE:Europe/Berlin
BEGIN:VEVENT
UID:25@dorfgemeinschaft-espa.de
DTSTART;TZID=Europe/Berlin:20260530T140000
DTEND;TZID=Europe/Berlin:20260530T180000
DTSTAMP:20251210T081256Z
URL:https://www.dorfgemeinschaft-espa.de/events/familientag-der-feuerwehr/
SUMMARY:Familientag der Feuerwehr
DESCRIPTION:Spiel und Spaß bei der Freiwilligen Feuerwehr Espa
CATEGORIES:Familien &amp; Kinder,Veranstalter: Freiwillige Feuerwehr Espa
LOCATION:Feuerwehrgerätehaus Espa\, Kleehofstraße 28\, Langgöns-Espa\, 3
 5428\, Deutschland
X-APPLE-STRUCTURED-LOCATION;VALUE=URI;X-ADDRESS=Kleehofstraße 28\, Langgö
 ns-Espa\, 35428\, Deutschland;X-APPLE-RADIUS=100;X-TITLE=Feuerwehrgeräteh
 aus Espa:geo:0,0
END:VEVENT
BEGIN:VTIMEZONE
TZID:Europe/Berlin
X-LIC-LOCATION:Europe/Berlin
BEGIN:DAYLIGHT
DTSTART:20260329T030000
TZOFFSETFROM:+0100
TZOFFSETTO:+0200
TZNAME:CEST
END:DAYLIGHT
END:VTIMEZONE
END:VCALENDAR