BEGIN:VCALENDAR
VERSION:2.0
PRODID:-//wp-events-plugin.com//7.2.3.1//EN
TZID:Europe/Berlin
X-WR-TIMEZONE:Europe/Berlin
BEGIN:VEVENT
UID:28@dorfgemeinschaft-espa.de
DTSTART;TZID=Europe/Berlin:20260823T150000
DTEND;TZID=Europe/Berlin:20260823T180000
DTSTAMP:20251210T085937Z
URL:https://www.dorfgemeinschaft-espa.de/events/kaffee-und-kuchen-im-garte
 n-bei-brigitte-und-robert-2/
SUMMARY:Kaffee und Kuchen im Garten bei Brigitte und Robert
DESCRIPTION:Wir veranstalten wieder das gemütliche Beisammensein bei Kaffe
 e und Kuchen im Garten. Den Kaffee spendiert die Dorfgemeinschaft Espa.\n\
 nKuchenspenden koordiniert Jutta Kutt unter Telefon 06033-5498.
CATEGORIES:Feste &amp; Feiern,Veranstalter: Dorfgemeinschaft Espa
LOCATION:Im Garten von Brigitte und Robert\, Kleehofstraße 18\, Langgöns-
 Espa\, 35428\, Deutschland
X-APPLE-STRUCTURED-LOCATION;VALUE=URI;X-ADDRESS=Kleehofstraße 18\, Langgö
 ns-Espa\, 35428\, Deutschland;X-APPLE-RADIUS=100;X-TITLE=Im Garten von Bri
 gitte und Robert:geo:0,0
END:VEVENT
BEGIN:VTIMEZONE
TZID:Europe/Berlin
X-LIC-LOCATION:Europe/Berlin
BEGIN:DAYLIGHT
DTSTART:20260329T030000
TZOFFSETFROM:+0100
TZOFFSETTO:+0200
TZNAME:CEST
END:DAYLIGHT
END:VTIMEZONE
END:VCALENDAR