BEGIN:VCALENDAR
VERSION:2.0
PRODID:-//wp-events-plugin.com//7.2.3.1//EN
TZID:Europe/Berlin
X-WR-TIMEZONE:Europe/Berlin
BEGIN:VEVENT
UID:23@dorfgemeinschaft-espa.de
DTSTART;TZID=Europe/Berlin:20260501T110000
DTEND;TZID=Europe/Berlin:20260501T160000
DTSTAMP:20251210T080851Z
URL:https://www.dorfgemeinschaft-espa.de/events/maifeier-auf-dem-sportplat
 z/
SUMMARY:Maifeier auf dem Sportplatz
DESCRIPTION:Mit Getränken und Grillerei.
CATEGORIES:Feste &amp; Feiern,Veranstalter: Blau-Weiß Espa
LOCATION:Sportlerheim Espa\, An der L3053\, Langgöns-Espa\, 35428\, Deutsc
 hland
X-APPLE-STRUCTURED-LOCATION;VALUE=URI;X-ADDRESS=An der L3053\, Langgöns-Es
 pa\, 35428\, Deutschland;X-APPLE-RADIUS=100;X-TITLE=Sportlerheim Espa:geo:
 0,0
END:VEVENT
BEGIN:VTIMEZONE
TZID:Europe/Berlin
X-LIC-LOCATION:Europe/Berlin
BEGIN:DAYLIGHT
DTSTART:20260329T030000
TZOFFSETFROM:+0100
TZOFFSETTO:+0200
TZNAME:CEST
END:DAYLIGHT
END:VTIMEZONE
END:VCALENDAR