BEGIN:VCALENDAR
VERSION:2.0
PRODID:-//wp-events-plugin.com//7.2.3.1//EN
TZID:Europe/Berlin
X-WR-TIMEZONE:Europe/Berlin
BEGIN:VEVENT
UID:29@dorfgemeinschaft-espa.de
DTSTART;TZID=Europe/Berlin:20260927T110000
DTEND;TZID=Europe/Berlin:20260927T170000
DTSTAMP:20251210T090108Z
URL:https://www.dorfgemeinschaft-espa.de/events/oktoberfest-im-buergerhaus
 -espa-2/
SUMMARY:Oktoberfest im Bürgerhaus Espa
DESCRIPTION:Nach dem Gottesdienst (9.30 Uhr in der Kirche) geht’s zum Okt
 oberfest ab 11 Uhr im Bürgerhaus Espa.\nUnd ab 12:30 Uhr gibt’s dort Mi
 ttagessen.\nWas gibt’s für das leibliche Wohl?\n\n\n 	Leckeren Spießbr
 aten mit Brot und Krautsalat\n 	Bratwürstchen\, Leberkäs-Brötchen\, Bre
 zn\n 	und natürlich Weißbier\, Bene hell\, Licher Pils und Softgetränke
 .\n\nKomm vorbei - wir freuen uns auf dich!\nMit boarischem Gruß\,\nDer V
 orstand der Dorfgemeinschaft Espa e.V.
CATEGORIES:Feste &amp; Feiern,Veranstalter: Dorfgemeinschaft Espa
LOCATION:Bürgerhaus Espa\, Weidenweg 5a\, Langgöns-Espa\, 35428\, Deutsch
 land
X-APPLE-STRUCTURED-LOCATION;VALUE=URI;X-ADDRESS=Weidenweg 5a\, Langgöns-Es
 pa\, 35428\, Deutschland;X-APPLE-RADIUS=100;X-TITLE=Bürgerhaus Espa:geo:0
 ,0
END:VEVENT
BEGIN:VTIMEZONE
TZID:Europe/Berlin
X-LIC-LOCATION:Europe/Berlin
BEGIN:DAYLIGHT
DTSTART:20260329T030000
TZOFFSETFROM:+0100
TZOFFSETTO:+0200
TZNAME:CEST
END:DAYLIGHT
END:VTIMEZONE
END:VCALENDAR