BEGIN:VCALENDAR
VERSION:2.0
PRODID:-//wp-events-plugin.com//7.2.3.1//EN
TZID:Europe/Berlin
X-WR-TIMEZONE:Europe/Berlin
BEGIN:VEVENT
UID:33@dorfgemeinschaft-espa.de
DTSTART;TZID=Europe/Berlin:20261114T000000
DTEND;TZID=Europe/Berlin:20261114T000000
DTSTAMP:20251210T090548Z
URL:https://www.dorfgemeinschaft-espa.de/events/schlachtfest-im-buergerhau
 s/
SUMMARY:Schlachtfest im Bürgerhaus
DESCRIPTION:Neu in diesem Jahr: Schlachtfest im Bürgerhaus Espa!\n\nDie Pl
 ätze sind begrenzt - bitte hier über die Homepage anmelden und vorbestel
 len. (Link folgt)
LOCATION:Bürgerhaus Espa\, Weidenweg 5a\, Langgöns-Espa\, 35428\, Deutsch
 land
X-APPLE-STRUCTURED-LOCATION;VALUE=URI;X-ADDRESS=Weidenweg 5a\, Langgöns-Es
 pa\, 35428\, Deutschland;X-APPLE-RADIUS=100;X-TITLE=Bürgerhaus Espa:geo:0
 ,0
END:VEVENT
BEGIN:VTIMEZONE
TZID:Europe/Berlin
X-LIC-LOCATION:Europe/Berlin
BEGIN:STANDARD
DTSTART:20261025T020000
TZOFFSETFROM:+0200
TZOFFSETTO:+0100
TZNAME:CET
END:STANDARD
END:VTIMEZONE
END:VCALENDAR