BEGIN:VCALENDAR
VERSION:2.0
PRODID:-//wp-events-plugin.com//7.2.3.1//EN
TZID:Europe/Berlin
X-WR-TIMEZONE:Europe/Berlin
BEGIN:VEVENT
UID:32@dorfgemeinschaft-espa.de
DTSTART;TZID=Europe/Berlin;VALUE=DATE:20261107
DTEND;TZID=Europe/Berlin;VALUE=DATE:20261108
DTSTAMP:20251210T090356Z
URL:https://www.dorfgemeinschaft-espa.de/events/st-martins-umzug-2/
SUMMARY:St. Martins-Umzug
DESCRIPTION:St. Martins-Umzug durch Espa bis zum Feuerwehrgerätehaus.\n\nA
 usklang bei Speisen und Getränken am Feuerwehrgerätehaus.
CATEGORIES:Familien &amp; Kinder,Veranstalter: Freiwillige Feuerwehr Espa
LOCATION:Feuerwehrgerätehaus Espa\, Kleehofstraße 28\, Langgöns-Espa\, 3
 5428\, Deutschland
X-APPLE-STRUCTURED-LOCATION;VALUE=URI;X-ADDRESS=Kleehofstraße 28\, Langgö
 ns-Espa\, 35428\, Deutschland;X-APPLE-RADIUS=100;X-TITLE=Feuerwehrgeräteh
 aus Espa:geo:0,0
END:VEVENT
BEGIN:VTIMEZONE
TZID:Europe/Berlin
X-LIC-LOCATION:Europe/Berlin
BEGIN:STANDARD
DTSTART:20261025T020000
TZOFFSETFROM:+0200
TZOFFSETTO:+0100
TZNAME:CET
END:STANDARD
END:VTIMEZONE
END:VCALENDAR