BEGIN:VCALENDAR
VERSION:2.0
PRODID:-//wp-events-plugin.com//7.2.3.1//EN
TZID:Europe/Berlin
X-WR-TIMEZONE:Europe/Berlin
BEGIN:VEVENT
UID:37@dorfgemeinschaft-espa.de
DTSTART;TZID=Europe/Berlin:20261223T170000
DTEND;TZID=Europe/Berlin:20261223T230000
DTSTAMP:20251210T090845Z
URL:https://www.dorfgemeinschaft-espa.de/events/traditioneller-espaer-weih
 nachtsmarkt-2/
SUMMARY:Traditioneller Espaer Weihnachtsmarkt
DESCRIPTION:Unser beliebter Weihnachtsmarkt am Feuerwehrgerätehaus.\n\nDas
  ganze Dorf kommt wie immer einen Tag vor Heiligabend noch einmal zusammen
 .\n\nMit lecker Speis und Trank für jung und alt!
CATEGORIES:Feste &amp; Feiern,Veranstalter: Blau-Weiß Espa,Veranstalter:
 Freiwillige Feuerwehr Espa
LOCATION:Feuerwehrgerätehaus Espa\, Kleehofstraße 28\, Langgöns-Espa\, 3
 5428\, Deutschland
X-APPLE-STRUCTURED-LOCATION;VALUE=URI;X-ADDRESS=Kleehofstraße 28\, Langgö
 ns-Espa\, 35428\, Deutschland;X-APPLE-RADIUS=100;X-TITLE=Feuerwehrgeräteh
 aus Espa:geo:0,0
END:VEVENT
BEGIN:VTIMEZONE
TZID:Europe/Berlin
X-LIC-LOCATION:Europe/Berlin
BEGIN:STANDARD
DTSTART:20261025T020000
TZOFFSETFROM:+0200
TZOFFSETTO:+0100
TZNAME:CET
END:STANDARD
END:VTIMEZONE
END:VCALENDAR