BEGIN:VCALENDAR
VERSION:2.0
PRODID:-//wp-events-plugin.com//7.2.3.1//EN
TZID:Europe/Berlin
X-WR-TIMEZONE:Europe/Berlin
BEGIN:VEVENT
UID:34@dorfgemeinschaft-espa.de
DTSTART;TZID=Europe/Berlin:20261128T153000
DTEND;TZID=Europe/Berlin:20261128T173000
DTSTAMP:20251210T090634Z
URL:https://www.dorfgemeinschaft-espa.de/events/weihnachtsbaum-schmuecken-
 2/
SUMMARY:Weihnachtsbaum schmücken
DESCRIPTION:Weihnachtsbaum schmücken am Ortseingang Solmser Straße.\n\nAl
 le dürfen ihren Weihnachtsbaumschmuck mitbringen und aufhängen.\n\nAnsch
 ließend folgt Teil 1 der Einstimmung in die Weihnachtszeit mit einer klei
 nen weihnachtlichen Geschichte bei Kinderpunsch und Glühwein.
CATEGORIES:Familien &amp; Kinder,Veranstalter: Dorfgemeinschaft Espa
LOCATION:Ortseingang\, Solmser Straße\, Langgöns-Espa\, Deutschland
X-APPLE-STRUCTURED-LOCATION;VALUE=URI;X-ADDRESS=Solmser Straße\, Langgöns
 -Espa\, Deutschland;X-APPLE-RADIUS=100;X-TITLE=Ortseingang:geo:0,0
END:VEVENT
BEGIN:VTIMEZONE
TZID:Europe/Berlin
X-LIC-LOCATION:Europe/Berlin
BEGIN:STANDARD
DTSTART:20261025T020000
TZOFFSETFROM:+0200
TZOFFSETTO:+0100
TZNAME:CET
END:STANDARD
END:VTIMEZONE
END:VCALENDAR